BEGIN:VCALENDAR
VERSION:2.0
PRODID:-//Bugala Study Center - ECPv6.15.20//NONSGML v1.0//EN
CALSCALE:GREGORIAN
METHOD:PUBLISH
X-WR-CALNAME:Bugala Study Center
X-ORIGINAL-URL:https://bugala.org
X-WR-CALDESC:Events for Bugala Study Center
REFRESH-INTERVAL;VALUE=DURATION:PT1H
X-Robots-Tag:noindex
X-PUBLISHED-TTL:PT1H
BEGIN:VTIMEZONE
TZID:Africa/Kampala
BEGIN:STANDARD
TZOFFSETFROM:+0300
TZOFFSETTO:+0300
TZNAME:EAT
DTSTART:20200101T000000
END:STANDARD
END:VTIMEZONE
BEGIN:VEVENT
DTSTART;TZID=Africa/Kampala:20220224T173000
DTEND;TZID=Africa/Kampala:20220227T160000
DTSTAMP:20260421T154836
CREATED:20220202T095613Z
LAST-MODIFIED:20220202T100255Z
UID:3651-1645723800-1645977600@bugala.org
SUMMARY:University Student's Retreat
DESCRIPTION:Share this:\n				Share on X (Opens in new window)\n				X\n			\n				Share on WhatsApp (Opens in new window)\n				WhatsApp\n			\n				Email a link to a friend (Opens in new window)\n				Email\n			\n				Share on Facebook (Opens in new window)\n				Facebook\n			\n				Share on Telegram (Opens in new window)\n				Telegram\n			\n				Share on LinkedIn (Opens in new window)\n				LinkedIn\n			Like this:Like Loading...
URL:https://bugala.org/activity/university-students-retreat/
LOCATION:Tusimba Conference Center\, Garuga\, Tusimba Conference Centre\, Garuga Rd\, Uganda
ATTACH;FMTTYPE=image/jpeg:https://bugala.org/wp-content/uploads/2022/02/IMG-20220120-WA0004.jpg
END:VEVENT
BEGIN:VEVENT
DTSTART;TZID=Africa/Kampala:20220217T180000
DTEND;TZID=Africa/Kampala:20220220T170000
DTSTAMP:20260421T154836
CREATED:20220214T070932Z
LAST-MODIFIED:20220214T071129Z
UID:3664-1645120800-1645376400@bugala.org
SUMMARY:February Professionals' Retreat
DESCRIPTION:Share this:\n				Share on X (Opens in new window)\n				X\n			\n				Share on WhatsApp (Opens in new window)\n				WhatsApp\n			\n				Email a link to a friend (Opens in new window)\n				Email\n			\n				Share on Facebook (Opens in new window)\n				Facebook\n			\n				Share on Telegram (Opens in new window)\n				Telegram\n			\n				Share on LinkedIn (Opens in new window)\n				LinkedIn\n			Like this:Like Loading...
URL:https://bugala.org/activity/february-professionals-retreat/
LOCATION:Tusimba Conference Center\, Garuga\, Tusimba Conference Centre\, Garuga Rd\, Uganda
ATTACH;FMTTYPE=image/jpeg:https://bugala.org/wp-content/uploads/2022/02/IMG-20220214-WA0003.jpg
END:VEVENT
BEGIN:VEVENT
DTSTART;TZID=Africa/Kampala:20220216T100000
DTEND;TZID=Africa/Kampala:20220216T170000
DTSTAMP:20260421T154836
CREATED:20220208T195705Z
LAST-MODIFIED:20220211T132544Z
UID:3655-1645005600-1645030800@bugala.org
SUMMARY:Intro to Campus
DESCRIPTION:Share this:\n				Share on X (Opens in new window)\n				X\n			\n				Share on WhatsApp (Opens in new window)\n				WhatsApp\n			\n				Email a link to a friend (Opens in new window)\n				Email\n			\n				Share on Facebook (Opens in new window)\n				Facebook\n			\n				Share on Telegram (Opens in new window)\n				Telegram\n			\n				Share on LinkedIn (Opens in new window)\n				LinkedIn\n			Like this:Like Loading...
URL:https://bugala.org/activity/intro-to-campus/
LOCATION:Bugala Study Center\, Plot 2 Kyadondo Road\,Nakasero\, Kampala\, Uganda
ATTACH;FMTTYPE=image/jpeg:https://bugala.org/wp-content/uploads/2022/02/IMG-20220211-WA0001.jpg
END:VEVENT
BEGIN:VEVENT
DTSTART;TZID=Africa/Kampala:20220215T180000
DTEND;TZID=Africa/Kampala:20220215T193000
DTSTAMP:20260421T154836
CREATED:20220215T094621Z
LAST-MODIFIED:20220215T094621Z
UID:3668-1644948000-1644953400@bugala.org
SUMMARY:Tuesday Recollection
DESCRIPTION:Bugala Study Centre is inviting you for the Tuesday Recollection \nTopic: Tuesday Evening of Recollection \nTime: 6pm – 7:30pm \nJoin Zoom Meeting Link: https://us02web.zoom.us/j/84671047706?pwd=aE5FV0dnRHJoMXhCUjhrVzUwb3BWZz09 \nMeeting ID: 846 7104 7706\nPasscode: 016309 \nShare this:\n				Share on X (Opens in new window)\n				X\n			\n				Share on WhatsApp (Opens in new window)\n				WhatsApp\n			\n				Email a link to a friend (Opens in new window)\n				Email\n			\n				Share on Facebook (Opens in new window)\n				Facebook\n			\n				Share on Telegram (Opens in new window)\n				Telegram\n			\n				Share on LinkedIn (Opens in new window)\n				LinkedIn\n			Like this:Like Loading...
URL:https://bugala.org/activity/tuesday-recollection/
LOCATION:Bugala Study Center\, Plot 2 Kyadondo Road\,Nakasero\, Kampala\, Uganda
ATTACH;FMTTYPE=image/jpeg:https://bugala.org/wp-content/uploads/2022/02/Evening-Recollection-new.jpg
END:VEVENT
BEGIN:VEVENT
DTSTART;TZID=Africa/Kampala:20220205T153000
DTEND;TZID=Africa/Kampala:20220205T184500
DTSTAMP:20260421T154836
CREATED:20220131T204958Z
LAST-MODIFIED:20220131T204958Z
UID:3647-1644075000-1644086700@bugala.org
SUMMARY:University Student's February Recollection
DESCRIPTION:Share this:\n				Share on X (Opens in new window)\n				X\n			\n				Share on WhatsApp (Opens in new window)\n				WhatsApp\n			\n				Email a link to a friend (Opens in new window)\n				Email\n			\n				Share on Facebook (Opens in new window)\n				Facebook\n			\n				Share on Telegram (Opens in new window)\n				Telegram\n			\n				Share on LinkedIn (Opens in new window)\n				LinkedIn\n			Like this:Like Loading...
URL:https://bugala.org/activity/university-students-february-recollection/
LOCATION:Bugala Study Center\, Plot 2 Kyadondo Road\,Nakasero\, Kampala\, Uganda
ATTACH;FMTTYPE=image/jpeg:https://bugala.org/wp-content/uploads/2022/01/IMG-20220131-WA0002.jpg
END:VEVENT
BEGIN:VEVENT
DTSTART;TZID=Africa/Kampala:20220111T180000
DTEND;TZID=Africa/Kampala:20220111T192000
DTSTAMP:20260421T154836
CREATED:20220110T230323Z
LAST-MODIFIED:20220110T230422Z
UID:3635-1641924000-1641928800@bugala.org
SUMMARY:Tuesday Recollection For Professionals
DESCRIPTION:What: Evening Professionals Recollection \nWhen: Tuesday 11th December 2022 \nWhere: Bugala Study Center and Zoom (for those who can’t make it to the center) \nZoom Link: https://us02web.zoom.us/j/84671047706?pwd=aE5FV0dnRHJoMXhCUjhrVzUwb3BWZz09 \nStarting Time: 6 pm \nShare this:\n				Share on X (Opens in new window)\n				X\n			\n				Share on WhatsApp (Opens in new window)\n				WhatsApp\n			\n				Email a link to a friend (Opens in new window)\n				Email\n			\n				Share on Facebook (Opens in new window)\n				Facebook\n			\n				Share on Telegram (Opens in new window)\n				Telegram\n			\n				Share on LinkedIn (Opens in new window)\n				LinkedIn\n			Like this:Like Loading...
URL:https://bugala.org/activity/jan-22-tuesday-recollection/
ATTACH;FMTTYPE=image/jpeg:https://bugala.org/wp-content/uploads/2022/01/Evening-Recollection.jpg
END:VEVENT
BEGIN:VEVENT
DTSTART;TZID=Africa/Kampala:20211205T100000
DTEND;TZID=Africa/Kampala:20211205T163000
DTSTAMP:20260421T154836
CREATED:20211202T093346Z
LAST-MODIFIED:20211202T095421Z
UID:3622-1638698400-1638721800@bugala.org
SUMMARY:25th Anniversary Celebrations
DESCRIPTION:When: Sunday 5th December 2021 \nWhere: Tusimba Conference Center\, Garuga \nTime: 10 am \nCost: Each ticket goes for 30\,000= (Adults) and 20\,000= (Children) \nContact: 0784 456393 (for inquiries and booking a ticket) \n  \nShare this:\n				Share on X (Opens in new window)\n				X\n			\n				Share on WhatsApp (Opens in new window)\n				WhatsApp\n			\n				Email a link to a friend (Opens in new window)\n				Email\n			\n				Share on Facebook (Opens in new window)\n				Facebook\n			\n				Share on Telegram (Opens in new window)\n				Telegram\n			\n				Share on LinkedIn (Opens in new window)\n				LinkedIn\n			Like this:Like Loading...
URL:https://bugala.org/activity/25th-anniversary-celebrations/
LOCATION:Tusimba Conference Center\, Garuga\, Tusimba Conference Centre\, Garuga Rd\, Uganda
ATTACH;FMTTYPE=image/jpeg:https://bugala.org/wp-content/uploads/2021/12/25th-anniversary-flyer.jpeg
END:VEVENT
BEGIN:VEVENT
DTSTART;TZID=Africa/Kampala:20211204T160000
DTEND;TZID=Africa/Kampala:20211204T183000
DTSTAMP:20260421T154836
CREATED:20211203T175653Z
LAST-MODIFIED:20211203T175653Z
UID:3628-1638633600-1638642600@bugala.org
SUMMARY:University Student Recollection
DESCRIPTION:December recollection for University Students \nWhen: Saturday 4th December 2021 \nWhere: Bugala Study Center. \nTime: 4pm \n  \nInvite a friend \nShare this:\n				Share on X (Opens in new window)\n				X\n			\n				Share on WhatsApp (Opens in new window)\n				WhatsApp\n			\n				Email a link to a friend (Opens in new window)\n				Email\n			\n				Share on Facebook (Opens in new window)\n				Facebook\n			\n				Share on Telegram (Opens in new window)\n				Telegram\n			\n				Share on LinkedIn (Opens in new window)\n				LinkedIn\n			Like this:Like Loading...
URL:https://bugala.org/activity/university-student-recollection/
ATTACH;FMTTYPE=image/jpeg:https://bugala.org/wp-content/uploads/2021/12/student-Dec-recollection.jpeg
END:VEVENT
BEGIN:VEVENT
DTSTART;TZID=Africa/Kampala:20211105T190000
DTEND;TZID=Africa/Kampala:20211105T203000
DTSTAMP:20260421T154836
CREATED:20211102T144023Z
LAST-MODIFIED:20211102T144023Z
UID:3617-1636138800-1636144200@bugala.org
SUMMARY:Meditation and Get-together
DESCRIPTION:Topic: Meditation & Get-together (for 25th Anniv Preparations) \nTime: Nov 5\, 2021 07:00 PM Nairobi \nJoin Zoom Meeting: Click here \nMeeting ID: 895 6521 4372 \nPasscode: 122926 \nShare this:\n				Share on X (Opens in new window)\n				X\n			\n				Share on WhatsApp (Opens in new window)\n				WhatsApp\n			\n				Email a link to a friend (Opens in new window)\n				Email\n			\n				Share on Facebook (Opens in new window)\n				Facebook\n			\n				Share on Telegram (Opens in new window)\n				Telegram\n			\n				Share on LinkedIn (Opens in new window)\n				LinkedIn\n			Like this:Like Loading...
URL:https://bugala.org/activity/25-anniv-meditation-and-get-together/
ATTACH;FMTTYPE=image/jpeg:https://bugala.org/wp-content/uploads/2021/11/WhatsApp-Image-2021-10-29-at-09.50.59.jpeg
END:VEVENT
BEGIN:VEVENT
DTSTART;TZID=Africa/Kampala:20211008T190000
DTEND;TZID=Africa/Kampala:20211008T203000
DTSTAMP:20260421T154836
CREATED:20211007T213122Z
LAST-MODIFIED:20211007T213357Z
UID:3612-1633719600-1633725000@bugala.org
SUMMARY:Meditation and Get-together
DESCRIPTION:Topic: Meditation by Fr Castanyos and Get-together with Harris Kirumira & Jonah Kyeswa\nTime: Oct 8\, 2021 07:00 PM Africa/Kampala \nJoin Zoom Meeting: Link \nMeeting ID: 856 8414 2537\nPasscode: 639396 \nShare this:\n				Share on X (Opens in new window)\n				X\n			\n				Share on WhatsApp (Opens in new window)\n				WhatsApp\n			\n				Email a link to a friend (Opens in new window)\n				Email\n			\n				Share on Facebook (Opens in new window)\n				Facebook\n			\n				Share on Telegram (Opens in new window)\n				Telegram\n			\n				Share on LinkedIn (Opens in new window)\n				LinkedIn\n			Like this:Like Loading...
URL:https://bugala.org/activity/meditation-and-get-together/
ATTACH;FMTTYPE=image/jpeg:https://bugala.org/wp-content/uploads/2021/10/Meditation-and-Get-Together.jpeg
END:VEVENT
BEGIN:VEVENT
DTSTART;TZID=Africa/Kampala:20210911T120000
DTEND;TZID=Africa/Kampala:20210911T131500
DTSTAMP:20260421T154836
CREATED:20210908T182629Z
LAST-MODIFIED:20210908T190041Z
UID:3606-1631361600-1631366100@bugala.org
SUMMARY:Meditation & Get-together
DESCRIPTION:Topic: Saturday Meditation and Get-together\nTime: Sep 11\, 2021 12:00 PM Nairobi \nJoin Zoom Meeting\nhttps://us02web.zoom.us/j/87307215540?pwd=Q3owdXAxamtXMDVnN1BoWXZpMXNZZz09 \nMeeting ID: 873 0721 5540\nPasscode: 191727 \nShare this:\n				Share on X (Opens in new window)\n				X\n			\n				Share on WhatsApp (Opens in new window)\n				WhatsApp\n			\n				Email a link to a friend (Opens in new window)\n				Email\n			\n				Share on Facebook (Opens in new window)\n				Facebook\n			\n				Share on Telegram (Opens in new window)\n				Telegram\n			\n				Share on LinkedIn (Opens in new window)\n				LinkedIn\n			Like this:Like Loading...
URL:https://bugala.org/activity/meditation-get-together/
ATTACH;FMTTYPE=image/jpeg:https://bugala.org/wp-content/uploads/2021/09/get-together-1.jpeg
END:VEVENT
BEGIN:VEVENT
DTSTART;TZID=Africa/Kampala:20210904T110000
DTEND;TZID=Africa/Kampala:20210904T123000
DTSTAMP:20260421T154836
CREATED:20210903T135804Z
LAST-MODIFIED:20210903T142730Z
UID:3579-1630753200-1630758600@bugala.org
SUMMARY:Recollection For Young Men
DESCRIPTION:Zoom meeting \nTopic: Monthly Recollection for Young Men \nTime: Sep 4\, 2021 11:00 AM Nairobi \nJoin Zoom Meeting https://us02web.zoom.us/j/82983215302?pwd=eG5UL2Z2dm5zSGNLVDNsa0xuMGJtZz09 \nMeeting ID: 829 8321 5302 \nPasscode: 209353 \nShare this:\n				Share on X (Opens in new window)\n				X\n			\n				Share on WhatsApp (Opens in new window)\n				WhatsApp\n			\n				Email a link to a friend (Opens in new window)\n				Email\n			\n				Share on Facebook (Opens in new window)\n				Facebook\n			\n				Share on Telegram (Opens in new window)\n				Telegram\n			\n				Share on LinkedIn (Opens in new window)\n				LinkedIn\n			Like this:Like Loading...
URL:https://bugala.org/activity/recollection-for-young-men/
ATTACH;FMTTYPE=image/jpeg:https://bugala.org/wp-content/uploads/2021/09/Monthly-Recollection-for-Young-Men-Made-with-PosterMyWall.jpg
END:VEVENT
BEGIN:VEVENT
DTSTART;TZID=Africa/Kampala:20210903T190000
DTEND;TZID=Africa/Kampala:20210903T203000
DTSTAMP:20260421T154836
CREATED:20210903T131535Z
LAST-MODIFIED:20210903T140636Z
UID:3542-1630695600-1630701000@bugala.org
SUMMARY:25th Anniversary Launch
DESCRIPTION:Topic: Meditation by Fr. Silvano and Get-Together with Prof Izael da Silva \nTime: Sep 3\, 2021 07:00 PM Kampala/EAT \nJoin Zoom Meeting: https://us02web.zoom.us/j/85321815238?pwd=cE41RWF2SVVHLzJqYm43c3dOSFV4Zz09 \nMeeting ID: 853 2181 5238\nPasscode: 199804 \nShare this:\n				Share on X (Opens in new window)\n				X\n			\n				Share on WhatsApp (Opens in new window)\n				WhatsApp\n			\n				Email a link to a friend (Opens in new window)\n				Email\n			\n				Share on Facebook (Opens in new window)\n				Facebook\n			\n				Share on Telegram (Opens in new window)\n				Telegram\n			\n				Share on LinkedIn (Opens in new window)\n				LinkedIn\n			Like this:Like Loading...
URL:https://bugala.org/activity/25th-anniversary-launch/
ATTACH;FMTTYPE=image/jpeg:https://bugala.org/wp-content/uploads/2021/09/Final-Bugala-Medi-and-Get-together.jpg
END:VEVENT
END:VCALENDAR