BEGIN:VCALENDAR
VERSION:2.0
PRODID:-//Bugala Study Center - ECPv6.15.20//NONSGML v1.0//EN
CALSCALE:GREGORIAN
METHOD:PUBLISH
X-WR-CALNAME:Bugala Study Center
X-ORIGINAL-URL:https://bugala.org
X-WR-CALDESC:Events for Bugala Study Center
REFRESH-INTERVAL;VALUE=DURATION:PT1H
X-Robots-Tag:noindex
X-PUBLISHED-TTL:PT1H
BEGIN:VTIMEZONE
TZID:Africa/Kampala
BEGIN:STANDARD
TZOFFSETFROM:+0300
TZOFFSETTO:+0300
TZNAME:EAT
DTSTART:20230101T000000
END:STANDARD
END:VTIMEZONE
BEGIN:VEVENT
DTSTART;TZID=Africa/Kampala:20240626T180000
DTEND;TZID=Africa/Kampala:20240626T193000
DTSTAMP:20260421T185339
CREATED:20240626T071428Z
LAST-MODIFIED:20240626T071428Z
UID:3872-1719424800-1719430200@bugala.org
SUMMARY:Mass of St Josemaria
DESCRIPTION:Download “Mass booklet for the Mass of St Josemaría - 2024”	Mass-booklet-for-the-mass-of-St-Josemaria-26-06-24.pdf		– Downloaded 1419 times		– 2.48 MB\n\n\n  \n \nShare this:\n				Share on X (Opens in new window)\n				X\n			\n				Share on WhatsApp (Opens in new window)\n				WhatsApp\n			\n				Email a link to a friend (Opens in new window)\n				Email\n			\n				Share on Facebook (Opens in new window)\n				Facebook\n			\n				Share on Telegram (Opens in new window)\n				Telegram\n			\n				Share on LinkedIn (Opens in new window)\n				LinkedIn\n			Like this:Like Loading...
URL:https://bugala.org/activity/mass-of-st-josemaria-2024/
LOCATION:Christ The King\, Kampala\, Plot 3 Colville St\, Kampala\, Uganda\, Kampala\, Uganda
CATEGORIES:Professionals,Students,Young Professionals
ATTACH;FMTTYPE=image/jpeg:https://bugala.org/wp-content/uploads/2024/06/Mass-of-St-Josemaria-at-CTK-2024.jpeg
END:VEVENT
BEGIN:VEVENT
DTSTART;TZID=Africa/Kampala:20240613T180000
DTEND;TZID=Africa/Kampala:20240613T193000
DTSTAMP:20260421T185339
CREATED:20240611T083420Z
LAST-MODIFIED:20240612T092452Z
UID:3797-1718301600-1718307000@bugala.org
SUMMARY:The Junction - June 2024
DESCRIPTION:Share this:\n				Share on X (Opens in new window)\n				X\n			\n				Share on WhatsApp (Opens in new window)\n				WhatsApp\n			\n				Email a link to a friend (Opens in new window)\n				Email\n			\n				Share on Facebook (Opens in new window)\n				Facebook\n			\n				Share on Telegram (Opens in new window)\n				Telegram\n			\n				Share on LinkedIn (Opens in new window)\n				LinkedIn\n			Like this:Like Loading...
URL:https://bugala.org/activity/the-junction-june-2024/
LOCATION:Bugala Study Center\, Plot 2 Kyadondo Road\,Nakasero\, Kampala\, Uganda
CATEGORIES:The Junctions,Young Professionals
ATTACH;FMTTYPE=image/jpeg:https://bugala.org/wp-content/uploads/2024/06/The-Junction-June-2024.jpeg
END:VEVENT
BEGIN:VEVENT
DTSTART;TZID=Africa/Kampala:20240611T180000
DTEND;TZID=Africa/Kampala:20240611T193000
DTSTAMP:20260421T185339
CREATED:20240611T073307Z
LAST-MODIFIED:20240611T073307Z
UID:3789-1718128800-1718134200@bugala.org
SUMMARY:Tuesday Professionals Recollection June 2024
DESCRIPTION:Share this:\n				Share on X (Opens in new window)\n				X\n			\n				Share on WhatsApp (Opens in new window)\n				WhatsApp\n			\n				Email a link to a friend (Opens in new window)\n				Email\n			\n				Share on Facebook (Opens in new window)\n				Facebook\n			\n				Share on Telegram (Opens in new window)\n				Telegram\n			\n				Share on LinkedIn (Opens in new window)\n				LinkedIn\n			Like this:Like Loading...
URL:https://bugala.org/activity/tuesday-professionals-recollection-june-2024/
LOCATION:Bugala Study Center\, Plot 2 Kyadondo Road\,Nakasero\, Kampala\, Uganda
CATEGORIES:Professionals,Recollections,Young Professionals
ATTACH;FMTTYPE=image/jpeg:https://objects-101.s3.eu-west-3.amazonaws.com/bugala.org/wp-content/uploads/2024/01/16135819/Tuesday-Recollection-for-Professionals.jpg
END:VEVENT
BEGIN:VEVENT
DTSTART;TZID=Africa/Kampala:20240404T180000
DTEND;TZID=Africa/Kampala:20240404T200000
DTSTAMP:20260421T185339
CREATED:20240402T091312Z
LAST-MODIFIED:20240402T091312Z
UID:3776-1712253600-1712260800@bugala.org
SUMMARY:The Junctions - April 2024
DESCRIPTION:Share this:\n				Share on X (Opens in new window)\n				X\n			\n				Share on WhatsApp (Opens in new window)\n				WhatsApp\n			\n				Email a link to a friend (Opens in new window)\n				Email\n			\n				Share on Facebook (Opens in new window)\n				Facebook\n			\n				Share on Telegram (Opens in new window)\n				Telegram\n			\n				Share on LinkedIn (Opens in new window)\n				LinkedIn\n			Like this:Like Loading...
URL:https://bugala.org/activity/the-junctions-april-2024/
LOCATION:Bugala Study Center\, Plot 2 Kyadondo Road\,Nakasero\, Kampala\, Uganda
CATEGORIES:The Junctions,Young Professionals
ATTACH;FMTTYPE=image/jpeg:https://objects-101.s3.eu-west-3.amazonaws.com/bugala.org/wp-content/uploads/2024/04/02120239/Junctions-April-2024.jpeg
END:VEVENT
BEGIN:VEVENT
DTSTART;TZID=Africa/Kampala:20240314T190000
DTEND;TZID=Africa/Kampala:20240317T160000
DTSTAMP:20260421T185339
CREATED:20240227T093110Z
LAST-MODIFIED:20240227T093522Z
UID:3737-1710442800-1710691200@bugala.org
SUMMARY:Young Professional's Lenten Retreat 2024
DESCRIPTION:Share this:\n				Share on X (Opens in new window)\n				X\n			\n				Share on WhatsApp (Opens in new window)\n				WhatsApp\n			\n				Email a link to a friend (Opens in new window)\n				Email\n			\n				Share on Facebook (Opens in new window)\n				Facebook\n			\n				Share on Telegram (Opens in new window)\n				Telegram\n			\n				Share on LinkedIn (Opens in new window)\n				LinkedIn\n			Like this:Like Loading...
URL:https://bugala.org/activity/young-professionals-lenten-retreat-2024/
LOCATION:Tusimba Conference Center\, Garuga\, Tusimba Conference Centre\, Garuga Rd\, Uganda
CATEGORIES:Retreat,Young Professionals
ATTACH;FMTTYPE=image/jpeg:https://objects-101.s3.eu-west-3.amazonaws.com/bugala.org/wp-content/uploads/2024/02/27122731/Young-Professionals-Lenten-Retreat-2024.jpg
END:VEVENT
END:VCALENDAR